BEGIN:VCALENDAR
VERSION:2.0
PRODID:-//wp-events-plugin.com//7.2.3.1//EN
TZID:Europe/Berlin
X-WR-TIMEZONE:Europe/Berlin
BEGIN:VEVENT
UID:28@lesbisch-sichtbar.berlin
DTSTART;TZID=Europe/Berlin:20250516T190000
DTEND;TZID=Europe/Berlin:20250516T210000
DTSTAMP:20250411T145021Z
URL:https://lesbisch-sichtbar.berlin/events/l-speed-meeting/
SUMMARY:L* Speed Meeting
DESCRIPTION:Termin: Freitag\nUhrzeit: 19:00 Uhr\nOrt: Sonntags-Club\, Greif
 enhagener Straße 28\, 10437 Berlin
ATTACH;FMTTYPE=image/jpeg:https://lesbisch-sichtbar.berlin/wp-content/uplo
 ads/2025/03/speed-meeting.jpg
END:VEVENT
BEGIN:VTIMEZONE
TZID:Europe/Berlin
X-LIC-LOCATION:Europe/Berlin
BEGIN:DAYLIGHT
DTSTART:20250330T030000
TZOFFSETFROM:+0100
TZOFFSETTO:+0200
TZNAME:CEST
END:DAYLIGHT
END:VTIMEZONE
END:VCALENDAR