BEGIN:VCALENDAR
VERSION:2.0
PRODID:-//wp-events-plugin.com//7.2.3.1//EN
TZID:Europe/Berlin
X-WR-TIMEZONE:Europe/Berlin
BEGIN:VEVENT
UID:78@lesbisch-sichtbar.berlin
DTSTART;TZID=Europe/Berlin:20260317T183000
DTEND;TZID=Europe/Berlin:20260317T203000
DTSTAMP:20260114T143239Z
URL:https://lesbisch-sichtbar.berlin/events/queerer-ueberraschungsfilmeabe
 nd-fuer-queere-flinta-in-marzahn/
SUMMARY:Queerer Überraschungsfilmeabend in Marzahn
DESCRIPTION:Termin: Dienstag\nUhrzeit: 18:30 Uhr\nOrt: BeRe. Familienzentru
 m DRehKreuz Sella-Hasse-Straße 19/21\, 12687 Berlin
ATTACH;FMTTYPE=image/jpeg:https://lesbisch-sichtbar.berlin/wp-content/uplo
 ads/2025/05/kinoabend_mahe.jpg
END:VEVENT
BEGIN:VTIMEZONE
TZID:Europe/Berlin
X-LIC-LOCATION:Europe/Berlin
BEGIN:STANDARD
DTSTART:20251026T020000
TZOFFSETFROM:+0200
TZOFFSETTO:+0100
TZNAME:CET
END:STANDARD
END:VTIMEZONE
END:VCALENDAR